BEGIN:VCALENDAR
VERSION:2.0
PRODID:-//SYTA - ECPv6.15.18//NONSGML v1.0//EN
CALSCALE:GREGORIAN
METHOD:PUBLISH
X-ORIGINAL-URL:https://syta.org
X-WR-CALDESC:Events for SYTA
REFRESH-INTERVAL;VALUE=DURATION:PT1H
X-Robots-Tag:noindex
X-PUBLISHED-TTL:PT1H
BEGIN:VTIMEZONE
TZID:America/Detroit
BEGIN:DAYLIGHT
TZOFFSETFROM:-0500
TZOFFSETTO:-0400
TZNAME:EDT
DTSTART:20250309T070000
END:DAYLIGHT
BEGIN:STANDARD
TZOFFSETFROM:-0400
TZOFFSETTO:-0500
TZNAME:EST
DTSTART:20251102T060000
END:STANDARD
BEGIN:DAYLIGHT
TZOFFSETFROM:-0500
TZOFFSETTO:-0400
TZNAME:EDT
DTSTART:20260308T070000
END:DAYLIGHT
BEGIN:STANDARD
TZOFFSETFROM:-0400
TZOFFSETTO:-0500
TZNAME:EST
DTSTART:20261101T060000
END:STANDARD
BEGIN:DAYLIGHT
TZOFFSETFROM:-0500
TZOFFSETTO:-0400
TZNAME:EDT
DTSTART:20270314T070000
END:DAYLIGHT
BEGIN:STANDARD
TZOFFSETFROM:-0400
TZOFFSETTO:-0500
TZNAME:EST
DTSTART:20271107T060000
END:STANDARD
END:VTIMEZONE
BEGIN:VEVENT
DTSTART;TZID=America/Detroit:20260226T130000
DTEND;TZID=America/Detroit:20260226T140000
DTSTAMP:20260420T120337
CREATED:20260217T181323Z
LAST-MODIFIED:20260310T183732Z
UID:10000014-1772110800-1772114400@syta.org
SUMMARY:The Importance of Self-Care in Tourism
DESCRIPTION:What is self-care? (Beyond spa days—rest\, nutrition\, boundaries)\nWhy it matters in hospitality and tourism: high-pressure\, people-facing roles\nIdentifying your personal self-care needs\nBuilding daily self-care habits (micro-breaks\, hydration\, sleep hygiene)\nCreating a self-care action plan\n\n			\n				ACCESS RECORDING
URL:https://syta.org/event/the-importance-of-self-care-in-tourism/
CATEGORIES:Virtual Education Archive
ATTACH;FMTTYPE=image/jpeg:https://syta.org/wp-content/uploads/2026/02/SYTA-SelfCare-Social.jpg
LOCATION:
END:VEVENT
END:VCALENDAR