BEGIN:VCALENDAR
VERSION:2.0
PRODID:-//SYTA - ECPv6.15.18//NONSGML v1.0//EN
CALSCALE:GREGORIAN
METHOD:PUBLISH
X-ORIGINAL-URL:https://syta.org
X-WR-CALDESC:Events for SYTA
REFRESH-INTERVAL;VALUE=DURATION:PT1H
X-Robots-Tag:noindex
X-PUBLISHED-TTL:PT1H
BEGIN:VTIMEZONE
TZID:America/Detroit
BEGIN:DAYLIGHT
TZOFFSETFROM:-0500
TZOFFSETTO:-0400
TZNAME:EDT
DTSTART:20250309T070000
END:DAYLIGHT
BEGIN:STANDARD
TZOFFSETFROM:-0400
TZOFFSETTO:-0500
TZNAME:EST
DTSTART:20251102T060000
END:STANDARD
BEGIN:DAYLIGHT
TZOFFSETFROM:-0500
TZOFFSETTO:-0400
TZNAME:EDT
DTSTART:20260308T070000
END:DAYLIGHT
BEGIN:STANDARD
TZOFFSETFROM:-0400
TZOFFSETTO:-0500
TZNAME:EST
DTSTART:20261101T060000
END:STANDARD
BEGIN:DAYLIGHT
TZOFFSETFROM:-0500
TZOFFSETTO:-0400
TZNAME:EDT
DTSTART:20270314T070000
END:DAYLIGHT
BEGIN:STANDARD
TZOFFSETFROM:-0400
TZOFFSETTO:-0500
TZNAME:EST
DTSTART:20271107T060000
END:STANDARD
END:VTIMEZONE
BEGIN:VEVENT
DTSTART;TZID=America/Detroit:20260305T140000
DTEND;TZID=America/Detroit:20260305T150000
DTSTAMP:20260420T131905
CREATED:20260217T182439Z
LAST-MODIFIED:20260310T194400Z
UID:10000015-1772719200-1772722800@syta.org
SUMMARY:How to Partner with Receptive Operators & DMCs for International Success
DESCRIPTION:Expanding internationally? Your success depends on who you have on the ground. \nThe International Committee invites you to the first session of a two-part webinar series designed to help you confidently partner with Receptive Operators and Destination Management Companies (DMCs). \nIn this session\, you’ll learn: \n\nThe critical role Receptive Operators and DMCs play in international travel\nHow they serve as your trusted\, in-country team\nBest practices for selecting the right partner\nHow to leverage their expertise to minimize risk and maximize impact\n\nIf you want smoother operations\, stronger local connections\, and greater confidence in your international programs\, this session is for you.​ \n			\n				ACCESS RECORDING
URL:https://syta.org/event/how-to-partner-with-receptive-operators-dmcs-for-international-success/
CATEGORIES:Virtual Education Archive
ATTACH;FMTTYPE=image/jpeg:https://syta.org/wp-content/uploads/2026/02/SYTA-PartnerDMCs-Social.jpg
LOCATION:
END:VEVENT
END:VCALENDAR