BEGIN:VCALENDAR
VERSION:2.0
PRODID:-//SYTA - ECPv6.15.18//NONSGML v1.0//EN
CALSCALE:GREGORIAN
METHOD:PUBLISH
X-WR-CALNAME:SYTA
X-ORIGINAL-URL:https://syta.org
X-WR-CALDESC:Events for SYTA
REFRESH-INTERVAL;VALUE=DURATION:PT1H
X-Robots-Tag:noindex
X-PUBLISHED-TTL:PT1H
BEGIN:VTIMEZONE
TZID:America/Detroit
BEGIN:DAYLIGHT
TZOFFSETFROM:-0500
TZOFFSETTO:-0400
TZNAME:EDT
DTSTART:20250309T070000
END:DAYLIGHT
BEGIN:STANDARD
TZOFFSETFROM:-0400
TZOFFSETTO:-0500
TZNAME:EST
DTSTART:20251102T060000
END:STANDARD
BEGIN:DAYLIGHT
TZOFFSETFROM:-0500
TZOFFSETTO:-0400
TZNAME:EDT
DTSTART:20260308T070000
END:DAYLIGHT
BEGIN:STANDARD
TZOFFSETFROM:-0400
TZOFFSETTO:-0500
TZNAME:EST
DTSTART:20261101T060000
END:STANDARD
BEGIN:DAYLIGHT
TZOFFSETFROM:-0500
TZOFFSETTO:-0400
TZNAME:EDT
DTSTART:20270314T070000
END:DAYLIGHT
BEGIN:STANDARD
TZOFFSETFROM:-0400
TZOFFSETTO:-0500
TZNAME:EST
DTSTART:20271107T060000
END:STANDARD
END:VTIMEZONE
BEGIN:VEVENT
DTSTART;TZID=America/Detroit:20260310T140000
DTEND;TZID=America/Detroit:20260310T150000
DTSTAMP:20260420T143835
CREATED:20260224T200504Z
LAST-MODIFIED:20260317T165006Z
UID:10000017-1773151200-1773154800@syta.org
SUMMARY:Leadership in SYTA and SYTA Youth Foundation
DESCRIPTION:Interested in a leadership and/or volunteer position within SYTA or the SYTA Youth Foundation? Join Courtenay Betts\, Past President of SYTA and Ryan Morris\, Past Chair of the SYTA Youth Foundation to learn about available opportunities\, what it means to serve\, time commitment and more! Webinar will give insight into the upcoming Nominating and Election process for serving on the Boards. \n			\n				ACCESS RECORDING
URL:https://syta.org/event/leadership-in-syta-and-syta-youth-foundation/
CATEGORIES:Virtual Education Archive
ATTACH;FMTTYPE=image/jpeg:https://syta.org/wp-content/uploads/2026/02/SYTA-LeadershipinSYTA-Web.jpg
LOCATION:
END:VEVENT
END:VCALENDAR