


BEGIN:VCALENDAR
VERSION:2.0
PRODID:-//SYTA Summit 2027 - ECPv6.15.18//NONSGML v1.0//EN
CALSCALE:GREGORIAN
METHOD:PUBLISH
X-ORIGINAL-URL:https://syta.org/summit2027
X-WR-CALDESC:Events for SYTA Summit 2027
REFRESH-INTERVAL;VALUE=DURATION:PT1H
X-Robots-Tag:noindex
X-PUBLISHED-TTL:PT1H
BEGIN:VTIMEZONE
TZID:UTC
BEGIN:STANDARD
TZOFFSETFROM:+0000
TZOFFSETTO:+0000
TZNAME:UTC
DTSTART:20250101T000000
END:STANDARD
END:VTIMEZONE
BEGIN:VTIMEZONE
TZID:America/Detroit
BEGIN:DAYLIGHT
TZOFFSETFROM:-0500
TZOFFSETTO:-0400
TZNAME:EDT
DTSTART:20250309T070000
END:DAYLIGHT
BEGIN:STANDARD
TZOFFSETFROM:-0400
TZOFFSETTO:-0500
TZNAME:EST
DTSTART:20251102T060000
END:STANDARD
BEGIN:DAYLIGHT
TZOFFSETFROM:-0500
TZOFFSETTO:-0400
TZNAME:EDT
DTSTART:20260308T070000
END:DAYLIGHT
BEGIN:STANDARD
TZOFFSETFROM:-0400
TZOFFSETTO:-0500
TZNAME:EST
DTSTART:20261101T060000
END:STANDARD
BEGIN:DAYLIGHT
TZOFFSETFROM:-0500
TZOFFSETTO:-0400
TZNAME:EDT
DTSTART:20270314T070000
END:DAYLIGHT
BEGIN:STANDARD
TZOFFSETFROM:-0400
TZOFFSETTO:-0500
TZNAME:EST
DTSTART:20271107T060000
END:STANDARD
BEGIN:DAYLIGHT
TZOFFSETFROM:-0500
TZOFFSETTO:-0400
TZNAME:EDT
DTSTART:20280312T070000
END:DAYLIGHT
BEGIN:STANDARD
TZOFFSETFROM:-0400
TZOFFSETTO:-0500
TZNAME:EST
DTSTART:20281105T060000
END:STANDARD
END:VTIMEZONE
BEGIN:VEVENT
DTSTART;VALUE=DATE:20260119
DTEND;VALUE=DATE:20260120
DTSTAMP:20260420T182416
CREATED:20240603T202938Z
LAST-MODIFIED:20251212T195123Z
UID:10000112-1768780800-1768867199@syta.org
SUMMARY:Office Set Up
DESCRIPTION:Location: The Cavalier – Crown Room
URL:https://syta.org/summit2027/event/departures/
END:VEVENT
BEGIN:VEVENT
DTSTART;VALUE=DATE:20260119
DTEND;VALUE=DATE:20260120
DTSTAMP:20260420T182416
CREATED:20250520T234542Z
LAST-MODIFIED:20251020T182019Z
UID:10000145-1768780800-1768867199@syta.org
SUMMARY:Staff and Early Attendee Arrivals
DESCRIPTION:Location: The Cavalier Hotel and Beach Club
URL:https://syta.org/summit2027/event/staff-and-early-guest-arrivals/
END:VEVENT
BEGIN:VEVENT
DTSTART;VALUE=DATE:20260119
DTEND;VALUE=DATE:20260120
DTSTAMP:20260420T182416
CREATED:20251212T194909Z
LAST-MODIFIED:20251212T194909Z
UID:10000197-1768780800-1768867199@syta.org
SUMMARY:Martin Luther King Day - Federal Holiday
DESCRIPTION:
URL:https://syta.org/summit2027/event/martin-luther-king-day-federal-holiday/
END:VEVENT
BEGIN:VEVENT
DTSTART;TZID=America/Detroit:20260120T080000
DTEND;TZID=America/Detroit:20260120T123000
DTSTAMP:20260420T182416
CREATED:20251212T200136Z
LAST-MODIFIED:20260121T025934Z
UID:10000198-1768896000-1768912200@syta.org
SUMMARY:SERG Meeting
DESCRIPTION:Location: The Cavalier – Quill Room
URL:https://syta.org/summit2027/event/serg-meeting-2/
END:VEVENT
BEGIN:VEVENT
DTSTART;TZID=America/Detroit:20260120T090000
DTEND;TZID=America/Detroit:20260120T150000
DTSTAMP:20260420T182416
CREATED:20250613T172210Z
LAST-MODIFIED:20260121T025959Z
UID:10000185-1768899600-1768921200@syta.org
SUMMARY:Tour Operator Site Visit
DESCRIPTION:Hosted by Virginia Beach Convention and Visitors Bureau\n \nDraft Schedule (as of October\, 2025)\nLeave The Cavalier Hotel at 9:00am\nReturn to hotel by 3:00pm\n \nVirginia Beach:\nWhere the Atlantic Ocean and the Chesapeake Bay meet\, Virginia Beach offers a mix of education\, performing arts\, adventure\, and fun!\n \nVirginia Aquarium & Marine Science Center– 800\, 000-plus gallons of aquariums\, hands-on exhibits\, and a marshland nature path. Dolphin and Whale Watching Cruises are also offered.\nAdventure Park– Head for the treetops on 17 different ropes courses connecting hundreds of platforms\, crossings\, ziplines and more.\nAtlantic Surf Park– Covering over 4.3 acres\, with a 2.67-acre lagoon\, Atlantic Park Surf is the first Wavegarden Cove Surf Lagoon in North America.\nAPEX Entertainment– 85\,000 square feet of fun with bowling\, arcades\, laser tag\, escape room and so much more.\nMilitary Aviation Museum– Largest private collection of flyable WWI and WWII aircraft in the World. Performance Opportunities are available.\nCape Henry Lighthouse– The oldest government-built lighthouse in the United States(1792)\nLunch & Learn with The Virginia Arts Festival– Learn more about this World Class Arts Organization including the Virginia International Tattoo\n \nDownload itinerary here!\n			\n				\n				\n				\n				\n				For more information contact:  Jim Coggin\, CTIS\, CSTP\nTourism Sales Manager\nVIRGINIA BEACH ECONOMIC VITALITY PORTFOLIO\nConvention and Visitors Bureau\n\nDirect: (757) 385-6642\nCell: (757) 284-9022 Fx: (757) 437-4747\n			\n			\n				\n				\n				\n				\n			\n				\n				\n				\n				\n				\n				\n				\n				\n				\n				\n				\n			\n				\n				\n				\n				\n				The Raleigh Room
URL:https://syta.org/summit2027/event/tour-operator-site-visit-hosted-by-virginia-beach-convention-and-visitors-bureau/
END:VEVENT
BEGIN:VEVENT
DTSTART;TZID=America/Detroit:20260120T120000
DTEND;TZID=America/Detroit:20260120T180000
DTSTAMP:20260420T182416
CREATED:20250521T000829Z
LAST-MODIFIED:20260121T025411Z
UID:10000147-1768910400-1768932000@syta.org
SUMMARY:Welcome Desk — Hotel and Resort Lobbies
DESCRIPTION:
URL:https://syta.org/summit2027/event/welcome-desk-registration-2/
END:VEVENT
BEGIN:VEVENT
DTSTART;TZID=America/Detroit:20260120T140000
DTEND;TZID=America/Detroit:20260120T180000
DTSTAMP:20260420T182416
CREATED:20250521T001019Z
LAST-MODIFIED:20260121T030038Z
UID:10000149-1768917600-1768932000@syta.org
SUMMARY:SYTA Central
DESCRIPTION:Crown Salon\, The Cavalier Hotel
URL:https://syta.org/summit2027/event/syta-central-4/
END:VEVENT
BEGIN:VEVENT
DTSTART;TZID=America/Detroit:20260120T150000
DTEND;TZID=America/Detroit:20260120T170000
DTSTAMP:20260420T182416
CREATED:20250613T172334Z
LAST-MODIFIED:20260121T030059Z
UID:10000186-1768921200-1768928400@syta.org
SUMMARY:Optional Activities at The Cavalier Hotel
DESCRIPTION:SeaHill Spa – Luxury Spa and Salon\, The Cavalier \nDeluxe Fitness Center\, The Cavalier \nVirginia Beach Boardwalk – Explore the Iconic Oceanfront by foot or bicycle \nVisit with colleagues in SYTA Central
URL:https://syta.org/summit2027/event/optional-activities-at-the-cavalier-hotel/
END:VEVENT
BEGIN:VEVENT
DTSTART;TZID=America/Detroit:20260120T150000
DTEND;TZID=America/Detroit:20260120T170000
DTSTAMP:20260420T182417
CREATED:20251002T024743Z
LAST-MODIFIED:20260121T030201Z
UID:10000192-1768921200-1768928400@syta.org
SUMMARY:Tour of the World Renowned Edgar Cayce’s A.R.E. Center
DESCRIPTION:Visited by over 100\,000 global visitors\, the A.R.E. Headquarters in Virginia Beach is the heart of Edgar Cayce’s visionary legacy. Discover the transformative insights of his psychic readings and explore their modern-day applications in health\, spirituality\, meditation\, intuition\, and holistic living. Experience a place where timeless wisdom meets personal and global spiritual growth.
URL:https://syta.org/summit2027/event/tour-of-the-world-renowned-edgar-cayces-a-r-e-center/
END:VEVENT
BEGIN:VEVENT
DTSTART;TZID=UTC:20260121T120000
DTEND;TZID=UTC:20260121T130000
DTSTAMP:20260420T182417
CREATED:20250521T012741Z
LAST-MODIFIED:20251223T014729Z
UID:10000160-1768996800-1769000400@syta.org
SUMMARY:Lunch and SYF Welcome
DESCRIPTION:Location: Salon E\, Marriott Oceanfront Resort.
URL:https://syta.org/summit2027/event/lunch-and-syf-welcome/
END:VEVENT
BEGIN:VEVENT
DTSTART;TZID=UTC:20260121T150000
DTEND;TZID=UTC:20260121T163000
DTSTAMP:20260420T182417
CREATED:20251002T164152Z
LAST-MODIFIED:20260106T210225Z
UID:10000196-1769007600-1769013000@syta.org
SUMMARY:Education Session - Dream Workshop with Introduction from Christopher Naughton
DESCRIPTION:Location: Salon E\, Marriott Oceanfront Resort. \nOur Inner Oracle – the Amazing World of Dreams\nEveryone dreams\, but few individuals are aware that dreams often provide accurate and detailed counsel into every area of life. Not only physical\, mental\, and spiritual guidance\, but also accurate personal guidance regarding our relationships\, our work\, our health\, our finances\, and even our personal future. This one-hour program will show you an easy approach to interpreting your own or anyone else’s dreams. You will discover how identifying a dream’s “theme” greatly simplifies its interpretation. It will also explore how this approach can help you in interpreting easy\, intermediate\, and even advanced dreams. You will learn how to better remember your dreams\, and finally\, participants will discover how it’s possible to “incubate a dream\,” receiving guidance on any question imaginable.\n \nLed by Kevin J. Todeschi\, MA\, a nationally recognized authority on dreams\, who has lectured to thousands of individuals on six continents. He is also the author of more than 25 books\, including The Encyclopedia of Dream Images and Symbols\, The BEST Dream Book Ever\, and Edgar Cayce on the Akashic Records.
URL:https://syta.org/summit2027/event/education-session-dream-workshop-with-introduction-from-christopher-naughton/
END:VEVENT
BEGIN:VEVENT
DTSTART;TZID=UTC:20260122T163000
DTEND;TZID=UTC:20260122T174500
DTSTAMP:20260420T182417
CREATED:20251212T205244Z
LAST-MODIFIED:20251212T205244Z
UID:10000199-1769099400-1769103900@syta.org
SUMMARY:Tour Operator and Sponsors Round Table Session II
DESCRIPTION:Location: Salon E – Marriott
URL:https://syta.org/summit2027/event/tour-operator-and-sponsors-round-table-session-ii/
END:VEVENT
BEGIN:VEVENT
DTSTART;TZID=UTC:20260122T174500
DTEND;TZID=UTC:20260122T190000
DTSTAMP:20260420T182417
CREATED:20251212T205353Z
LAST-MODIFIED:20251212T205353Z
UID:10000200-1769103900-1769108400@syta.org
SUMMARY:Open Time
DESCRIPTION:
URL:https://syta.org/summit2027/event/open-time/
END:VEVENT
BEGIN:VEVENT
DTSTART;TZID=UTC:20260122T190000
DTEND;TZID=UTC:20260122T210000
DTSTAMP:20260420T182417
CREATED:20250521T015527Z
LAST-MODIFIED:20251020T183915Z
UID:10000176-1769108400-1769115600@syta.org
SUMMARY:Closing Celebration: “1925 to 2025”
DESCRIPTION:The Crystal Ballroom\, The Cavalier Hotel — Join us for a spectacular evening that bridges the glamour of the Roaring ’20s with the excitement of the modern era!
URL:https://syta.org/summit2027/event/closing-reception-dinner/
END:VEVENT
BEGIN:VEVENT
DTSTART;TZID=UTC:20260123T080000
DTEND;TZID=UTC:20260123T080000
DTSTAMP:20260420T182417
CREATED:20250716T200759Z
LAST-MODIFIED:20260110T204911Z
UID:10000191-1769155200-1769155200@syta.org
SUMMARY:Visit Williamsburg Tour Operator Post Fam
DESCRIPTION:Departing 8:00 a.m.  \n\nJust over an hour’s drive from Virginia Beach\, Visit Williamsburg is hosting a site visit for Tour Operators to experience Colonial Williamsburg.  The itinerary is still being finalized and will be Friday\, January 23 – Saturday\, January 24\, 2026. This will include transportation from Virginia Beach to Williamsburg and transportation to the airport (s) on Saturday.  Friday night’s hotel will be complimentary for tour operators.\n \n \n\n\n \n\n \n			\n				\n				\n				\n				\n				\nOnce you have added the Fam Tour to your registration in the Attendee Hub or sent an email to registration@syta.org to add the Fam Tour to your registration\, please complete this form on behalf of Visit Williamsburg.\n \n \n\n\n \n\n \n			\n				\n				\n				\n				\n				\nFor additional information\, please contact Alejandra Ramello\,  alejandra.ramello@visitwilliamsburg.com\n\n\n\n\n\n\n\n			\n				\n				\n				\n				\n				\nDownload itinerary! 
URL:https://syta.org/summit2027/event/visit-williamsburg-tour-operator-fam/
END:VEVENT
BEGIN:VEVENT
DTSTART;TZID=UTC:20260123T090000
DTEND;TZID=UTC:20260123T123000
DTSTAMP:20260420T182417
CREATED:20250521T020009Z
LAST-MODIFIED:20251212T205622Z
UID:10000180-1769158800-1769171400@syta.org
SUMMARY:SYTA Board Meeting
DESCRIPTION:Location: The Cavalier – Crystal Ballroom
URL:https://syta.org/summit2027/event/syta-board-meeting/
END:VEVENT
BEGIN:VEVENT
DTSTART;TZID=UTC:20260123T180000
DTEND;TZID=UTC:20260123T210000
DTSTAMP:20260420T182417
CREATED:20250521T020301Z
LAST-MODIFIED:20250521T020301Z
UID:10000183-1769191200-1769202000@syta.org
SUMMARY:SYTA Board Dinner
DESCRIPTION:
URL:https://syta.org/summit2027/event/syta-board-dinner/
END:VEVENT
BEGIN:VEVENT
DTSTART;VALUE=DATE:20260124
DTEND;VALUE=DATE:20260125
DTSTAMP:20260420T182417
CREATED:20250521T020426Z
LAST-MODIFIED:20250521T020426Z
UID:10000184-1769212800-1769299199@syta.org
SUMMARY:Departures
DESCRIPTION:
URL:https://syta.org/summit2027/event/departures-2/
END:VEVENT
BEGIN:VEVENT
DTSTART;TZID=America/Detroit:20270119T000000
DTEND;TZID=America/Detroit:20270119T000000
DTSTAMP:20260420T182417
CREATED:20260330T185509Z
LAST-MODIFIED:20260330T185509Z
UID:10000202-1800316800-1800316800@syta.org
SUMMARY:Sightseeing Tours
DESCRIPTION:
URL:https://syta.org/summit2027/event/sightseeing-tours/
END:VEVENT
BEGIN:VEVENT
DTSTART;VALUE=DATE:20270119
DTEND;VALUE=DATE:20270120
DTSTAMP:20260420T182417
CREATED:20250521T000556Z
LAST-MODIFIED:20260330T185029Z
UID:10000146-1800316800-1800403199@syta.org
SUMMARY:Attendee Arrivals
DESCRIPTION:
URL:https://syta.org/summit2027/event/guest-arrivals/
END:VEVENT
BEGIN:VEVENT
DTSTART;TZID=UTC:20270119T140000
DTEND;TZID=UTC:20270119T180000
DTSTAMP:20260420T182417
CREATED:20251002T031659Z
LAST-MODIFIED:20260331T132230Z
UID:10000195-1800367200-1800381600@syta.org
SUMMARY:SYTA Central
DESCRIPTION:
URL:https://syta.org/summit2027/event/syta-central-8/
END:VEVENT
BEGIN:VEVENT
DTSTART;TZID=America/Detroit:20270119T180000
DTEND;TZID=America/Detroit:20270119T200000
DTSTAMP:20260420T182417
CREATED:20250521T001937Z
LAST-MODIFIED:20260330T185845Z
UID:10000151-1800381600-1800388800@syta.org
SUMMARY:Opening Reception
DESCRIPTION:
URL:https://syta.org/summit2027/event/opening-reception/
END:VEVENT
BEGIN:VEVENT
DTSTART;TZID=UTC:20270119T210000
DTEND;TZID=UTC:20270119T220000
DTSTAMP:20260420T182417
CREATED:20250521T015639Z
LAST-MODIFIED:20260330T193326Z
UID:10000177-1800392400-1800396000@syta.org
SUMMARY:Afterglow
DESCRIPTION:
URL:https://syta.org/summit2027/event/afterglow-2/
END:VEVENT
BEGIN:VEVENT
DTSTART;TZID=UTC:20270120T060000
DTEND;TZID=UTC:20270120T070000
DTSTAMP:20260420T182417
CREATED:20250521T014314Z
LAST-MODIFIED:20260330T193633Z
UID:10000166-1800424800-1800428400@syta.org
SUMMARY:Summit Meet Up: Walk/Run
DESCRIPTION:
URL:https://syta.org/summit2027/event/summit-meet-up-walk-run-2/
END:VEVENT
BEGIN:VEVENT
DTSTART;TZID=UTC:20270120T070000
DTEND;TZID=UTC:20270120T080000
DTSTAMP:20260420T182417
CREATED:20250521T012214Z
LAST-MODIFIED:20260330T193958Z
UID:10000155-1800428400-1800432000@syta.org
SUMMARY:Buffet Breakfast and Networking
DESCRIPTION:
URL:https://syta.org/summit2027/event/buffet-breakfast/
END:VEVENT
BEGIN:VEVENT
DTSTART;TZID=UTC:20270120T073000
DTEND;TZID=UTC:20270120T093000
DTSTAMP:20260420T182417
CREATED:20251002T030027Z
LAST-MODIFIED:20260330T194217Z
UID:10000193-1800430200-1800437400@syta.org
SUMMARY:SYTA Central
DESCRIPTION:
URL:https://syta.org/summit2027/event/syta-central-7/
END:VEVENT
BEGIN:VEVENT
DTSTART;TZID=America/Detroit:20270120T080000
DTEND;TZID=America/Detroit:20270120T081500
DTSTAMP:20260420T182417
CREATED:20260330T194422Z
LAST-MODIFIED:20260330T194422Z
UID:10000203-1800432000-1800432900@syta.org
SUMMARY:Welcome Round Tables
DESCRIPTION:
URL:https://syta.org/summit2027/event/welcome-round-tables/
END:VEVENT
BEGIN:VEVENT
DTSTART;TZID=UTC:20270120T081500
DTEND;TZID=UTC:20270120T094500
DTSTAMP:20260420T182417
CREATED:20250716T200013Z
LAST-MODIFIED:20260330T194720Z
UID:10000189-1800432900-1800438300@syta.org
SUMMARY:Round Table Session 1
DESCRIPTION:
URL:https://syta.org/summit2027/event/round-table-session-1/
END:VEVENT
BEGIN:VEVENT
DTSTART;TZID=UTC:20270120T094500
DTEND;TZID=UTC:20270120T100000
DTSTAMP:20260420T182417
CREATED:20251002T030329Z
LAST-MODIFIED:20260331T132146Z
UID:10000194-1800438300-1800439200@syta.org
SUMMARY:Networking Break
DESCRIPTION:
URL:https://syta.org/summit2027/event/break/
END:VEVENT
BEGIN:VEVENT
DTSTART;TZID=UTC:20270120T100000
DTEND;TZID=UTC:20270120T101500
DTSTAMP:20260420T182417
CREATED:20250521T012329Z
LAST-MODIFIED:20260331T132343Z
UID:10000156-1800439200-1800440100@syta.org
SUMMARY:SYTA President\, CVB President\, and Committee Welcome
DESCRIPTION:
URL:https://syta.org/summit2027/event/syta-president-cvb-president-and-committee-welcome/
END:VEVENT
END:VCALENDAR